Workbook
Name _: #REF!
Name 【ものづくり】規程: #REF!
Name ｻﾝｴｲ: [1]払出品!$W:$W
Name 関係: [2]紹介ｷｬﾝﾍﾟｰﾝ!$T$2
Name 事業区分: [3]List!$C$3:$C$7
Name 食費リスト: OFFSET([4]Sheet1!$A$1,0,0,COUNTA([4]Sheet1!$A:$A))
Name 貯蔵品: [1]払出品!$B:$O
Name 帳票No.1000: [1]払出品!#REF!
Name 帳票No.1001: [1]払出品!#REF!
Name 帳票No.1002: [1]払出品!#REF!
Name 帳票No.1003: [1]払出品!#REF!
Name 帳票No.1004: [1]払出品!#REF!
Name 帳票No.1005: [1]払出品!#REF!
Name 帳票No.1020: [1]払出品!#REF!
Name 帳票No.1021: [1]払出品!#REF!
Name 帳票No.1022: [1]払出品!#REF!
Name 帳票No.1030: [1]払出品!#REF!
Name 帳票No.1031: [1]払出品!#REF!
Name 帳票No.1032: [1]払出品!#REF!
Name 帳票No.1033: [1]払出品!#REF!
Name 帳票No.1100: [1]払出品!#REF!
Name 帳票No.1110: [1]払出品!#REF!
Name 帳票No.1111: [1]払出品!#REF!
Name 帳票No.1150: [1]払出品!#REF!
Name 帳票No.1151: [1]払出品!#REF!
Name 帳票No.1200: [1]払出品!#REF!
Name 帳票No.1300: [1]払出品!#REF!
Name 帳票No.1301: [1]払出品!#REF!
Name 帳票No.1304: [1]払出品!#REF!
Name 帳票No.1305: [1]払出品!#REF!
Name 帳票No.1306: [1]払出品!#REF!
Name 帳票No.1500: [1]払出品!#REF!
Name 帳票No.1600: [1]払出品!#REF!
Name 帳票No.1700: [1]払出品!#REF!
Name 帳票No.1701: [1]払出品!#REF!
Name 帳票No.2000: [1]払出品!#REF!
Name 帳票No.2001: [1]払出品!#REF!
Name 帳票No.2002: [1]払出品!#REF!
Name 帳票No.4000: [1]払出品!#REF!
Name 帳票No.5000: [1]払出品!#REF!
Name 帳票No.6000: [1]払出品!#REF!
Name 帳票No.6001: [1]払出品!#REF!
Name 帳票No.7000: [1]払出品!#REF!
Name 帳票No.7001: [1]払出品!#REF!
Name 帳票No.8000: [1]払出品!#REF!
Name 帳票No.8001: [1]払出品!#REF!
Name 帳票ｺｰﾄﾞ: [1]払出品!$Q:$Q
Name 特別A: [2]紹介ｷｬﾝﾍﾟｰﾝ!$U$2
Name 特別B: [2]紹介ｷｬﾝﾍﾟｰﾝ!$V$2
Name 判定欄: [2]紹介ｷｬﾝﾍﾟｰﾝ!$S$2
Name 飯田ﾈｰﾑ: [1]払出品!$S:$S
Name 費用リスト: OFFSET([4]Sheet1!$B$1,0,0,COUNTA([4]Sheet1!$B:$B))
Name 富士ｾﾞﾛｯｸｽ: [1]払出品!$U:$U
Name 並べ替え: #REF!
Name 豊田共栄ｻｰﾋﾞｽ: [1]払出品!$T:$T
Name 妙香園: [1]払出品!$V:$V
Name 名鉄百貨店: [1]払出品!$R:$R
Name 有無: [3]List!$B$3:$B$5
Name 予算案: #REF!

Sheet data1
A1: 申請日 | B1: フリガナ | C1: 代表者氏名 | D1: 申請団体名 | E1: 郵便番号 | F1: 住所 | G1: 担当部署 | H1: 担当者名 | I1: TEL | J1: FAX | K1: email | L1: 応募のきっかけ | M1: 応募のきっかけ_具体的名称 | N1: 分類 | O1: 分類2 | P1: 分類その他 | Q1: テーマ | R1: 自然＿対象場所 | S1: 期間から | T1: 期間まで | U1: 自然＿A総事業費 | V1: 自然＿B自己資金 | W1: 自然＿C助成対象費用 | X1: 自然＿D助成交付申請額 | Y1: 活動概要_1取組の背景 | Z1: 活動概要_2目的 | AA1: 活動概要_3具体的助成金の用途 | AB1: 活動概要_4 | AC1: 担当者TEL | AD1: 担当者メール | AE1: 団体URL | AF1: 自然＿活動実施体制
A2: ='2026自然共生申請書P1'!I4 -> 0 | B2: ='2026自然共生申請書P1'!I5 -> 0 | C2: ='2026自然共生申請書P1'!I6 -> 0 | D2: ='2026自然共生申請書P1'!D7 -> 0 | E2: ='2026自然共生申請書P1'!D8 -> 0 | F2: ='2026自然共生申請書P1'!D9 -> 0 | H2: ='2026自然共生申請書P1'!D13 -> 0 | I2: ='2026自然共生申請書P1'!D10 -> 0 | K2: ='2026自然共生申請書P1'!D11 -> 0 | L2: ='2026自然共生申請書P1'!F16 -> 0 | M2: ='2026自然共生申請書P1'!F17 -> 0 | N2: ='2026自然共生申請書P1'!F18 -> 0 | Q2: ='2026自然共生申請書P1'!D19 -> 0 | R2: ='2026自然共生申請書P1'!D20 -> 0 | S2: ='2026自然共生申請書P1'!D21 -> 0 | T2: ='2026自然共生申請書P1'!H21 -> 0 | U2: ='2026自然共生申請書P1'!E24 -> 0 | V2: ='2026自然共生申請書P1'!E25 -> 0 | W2: ='2026自然共生申請書P1'!E26 -> 0 | X2: ='2026自然共生申請書P1'!E28 -> 0 | Y2: ='2026活動概要P2'!A7 -> 0 | Z2: ='2026活動概要P2'!A16 -> 0 | AB2: ='2026活動概要P2'!A25 -> 0 | AC2: ='2026自然共生申請書P1'!D14 -> 0 | AD2: ='2026自然共生申請書P1'!D15 -> 0 | AE2: ='2026自然共生申請書P1'!D12 -> 0 | AF2: ='2026自然共生申請書P1'!D22 -> 本活動の実施に当たり、専門家・有識者・指導者等の協力がある場合はご記入ください

Sheet 2026自然共生申請書P1
B1: 公益財団法人 三五自然共生財団 御中 | J1: 2026年度 | L1: 助成テーマを選択してください
B2: 2026年度 助成申請書 | J2: P1 | L2: Ⅰ自然再生
B3: 貴財団の助成を受けたいので､ 以下のとおり申請いたします｡ | L3: Ⅱ生態系の保全
G4: 申請日 | L4: Ⅲ調査・研究
G5: (フリガナ） | L5: Ⅳ環境教育・啓発
G6: 代表者氏名
A7: 団体情報 | B7: 助成を受ける 団体の名称
B8: 所在地
B10: 電話番号
B11: E-mail
B12: URL
A13: 担当者情報 | B13: 申請担当者 | F13: （フリガナ）
B14: 担当者電話番号
B15: 担当者E-mail | O15: ①から⑥の選択してください
A16: 応募情報 | B16: この助成金募集を知ったきっかけ | D16: ①から⑥の選択してください | O16: ①当財団のＨＰ
D17: ②～⑤の組織/氏名、⑥を記入⇒ ） | O17: ②民間団体の紹介
B18: 助成テーマ | D18: 助成テーマを選択してください | O18: ③国・自治体の紹介
A19: 活動概要 | B19: 活動名称 | O19: ④大学の紹介
B20: 主な活動場所 | O20: ⑤当財団関係者
B21: 実施期間（年月日） | F21: ～ | O21: ⑥その他
B22: 活動実施体制 | D22: 本活動の実施に当たり、専門家・有識者・指導者等の協力がある場合はご記入ください
A23: 助成金申請額 | C23: 項目 | E23: 金 額（単位：万円） | H23: 備考 | O23: Ⅰ自然再生
B24: 活動費内訳 | C24: 総事業費 A | H24: 添付の見積書等にて算出 | O24: Ⅱ生態系の保全
C25: 自己資金 B | O25: Ⅲ調査・研究
C26: 助成対象費用 C | H26: C=A-B | O26: Ⅳ環境教育・啓発
C28: 助成金申請額 D | H28: D＝C≦150万円
A30: 添付書類 | B30: 1 | C30: 助成対象費用内訳書 | E30: 助成対象費用の内訳及び金額をご記入ください。（P3）
B31: 2 | C31: 見積書等 | E31: 活動費の積算内容が確認できるもの
B32: 3 | C32: 関係図面・地図 | E32: 活動場所や整備箇所の位置がわかるもの
B33: 4 | C33: 現況写真 | E33: 申請対象の活動実施前の状況がわかるもの
B34: 5 | C34: 申請者の概要 | E34: 登記のある団体は履歴事項全部証明書（提出3か月以内のもの）
E35: 任意の団体は団体概要、規約等
B36: ※応募資料は一切返却できませんのでご了承ください。
B37: ※用紙はA4サイズとします。
B38: ※申請額の記載は万円単位でお願いします。
B39: ※活動概要（活動詳細）を別紙（P2）に作成してください。
B40: ※助成対象内訳表（資金計画書含む）を別紙（P3）に作成してください。

Sheet 2026活動概要P2
A1: 公益財団法人 三五自然共生財団 御中 | I1: 2026年度
A2: 活動概要
H3: P2
A4: 団体名
A6: 活動の背景・目的（活動に取り組む背景と目的をご記入ください。）
A15: 活動内容（実施する活動の内容について、活動場所や整備箇所、対象者等が分かるように記載してください。）
A24: 期待される成果・今後の展望（活動により期待される成果と今後の展望をご記入ください。）

Sheet 助成対象費用内訳書P3
A2: 公益財団法人 三五自然共生財団 御中 | F2: 2026年度
F3: P3
C4: 助成対象費用内訳書
D6: 団体名：
D7: 助成活動期間：
D8: 申請金額： | F8: 万円
A10: 費目 | B10: 支出 | C10: 使途詳細 | E10: 備考/見積書No.
H12: ※費目について
H13: 下記のような費目を参考に作成してください。
H14: 人件費
H15: 旅費交通費
H16: 調査・研究費
H17: 広報・教育費
H18: 消耗品・備品費
H19: 会場・設備費
A29: 助成金合計
A31: ※助成金が適正に使用されたかを確認するものです。
A32: 見積書があれば添付ください。
